BEGIN:VCALENDAR
VERSION:2.0
PRODID:-//wp-events-plugin.com//7.2.3.1//EN
BEGIN:VEVENT
UID:4@gestaltung-immersiv.de
DTSTART:20240918T100000Z
DTEND:20240918T170000Z
DTSTAMP:20240830T132632Z
URL:https://gestaltung-immersiv.de/events/gim-klassenfahrt/
SUMMARY:GIM Klassenfahrt
DESCRIPTION:Mit dem Start in das neue Ausbildungsjahr möchten wir\, die Gi
 M Community\, die Gelegenheit nutzen\, um\npersönlich zusammenzukommen.\n
 Erlebt mit uns einen besonderes Netzwerkevent.\nWas euch erwartet:\n- Eine
  einzigartige Gelegenheit\, andere Mitglieder der Community persönlich\nk
 ennenzulernen.\n- Die Chance\, Erfahrungen auszutauschen und von den Best 
 Practices anderer zu\nlernen.\n- Ein inspirierender Tag voller interessant
 er Gespräche und neuer Impulse.
END:VEVENT
END:VCALENDAR